Workbook

Sheet Portada
C4: Herramienta de ejemplos para la identificación y cuantificación del gasto en infancia

Sheet Gasto total por tipologia
A1: Etiquetas de fila | B1: Suma de Importes de la CATEGORÍA A | C1: Suma de Importes de la CATEGORÍA B | D1: Suma de Importes de la CATEGORÍA C | E1: Suma de Importes de la CATEGORÍA D | F1: Suma de Importes de la CATEGORÍA E
A2: 1534 REPARACIÓN,CONSERVACIÓN Y MANTENIMIENTO DE ESPACIOS URBANOS | B2: 2282500 | C2: 0 | D2: 0 | E2: 6847500 | F2: 0
A3: 2321 ATENCIÓN Y APOYO A PERSONAS Y FAMILIAS CON NECESIDADES SOCIALES | B3: 107750 | C3: 8382950 | D3: 64650 | E3: 0 | F3: 12994650
A4: 3232 COLABORACIÓN EDUCATIVA CON CENTROS ESCOLARES | B4: 452994 | C4: 0 | D4: 280006 | E4: 0 | F4: 0
A5: Total general | B5: 2843244 | C5: 8382950 | D5: 344656 | E5: 6847500 | F5: 12994650

Sheet Gasto infancia por tipologia
A1: Etiquetas de fila | B1: Suma de Importes para la infancia de la CATEGORíA A | C1: Suma de Importes para la infancia de la CATEGORíA C | D1: Suma de Importes para la infancia de la CATEGORíA D | E1: Suma de Importes para la infancia de la CATEGORíA E | F1: Suma de Importes para la infancia
A2: 1534 REPARACIÓN,CONSERVACIÓN Y MANTENIMIENTO DE ESPACIOS URBANOS | B2: 2282500 | C2: 0 | D2: 1191465 | E2: 0 | F2: 3473965
A3: 2321 ATENCIÓN Y APOYO A PERSONAS Y FAMILIAS CON NECESIDADES SOCIALES | B3: 107750 | C3: 35557.5 | D3: 0 | E3: 2663903.2 | F3: 2807210.7 | I3: 3
A4: 3232 COLABORACIÓN EDUCATIVA CON CENTROS ESCOLARES | B4: 452994 | C4: 134402.88 | D4: 0 | E4: 0 | F4: 587396.88
A5: Total general | B5: 2843244 | C5: 169960.38 | D5: 1191465 | E5: 2663903.2 | F5: 6868572.6

Sheet Presupuestos
A2: DENOMINACIÓN DEL PROGRAMA | B2: CLASIFICACIÓN ECONÓMICA | C2: DENOMINACIÓN DE LA PARTIDA | D2: IMPORTE CONSOLIDADO (€) | E2: INCLUIDO EN EL CÁLCULO (=1) o no (=0) | F2: IMPORTE A CLASIFICAR | G2: IMPORTES DE LA CATEGORÍA A | H2: IMPORTES DE LA CATEGORÍA B | I2: IMPORTES DE LA CATEGORÍA C | J2: IMPORTES DE LA CATEGORÍA D | K2: IMPORTES DE LA CATEGORÍA E | L2: IMPORTES PARA LA INFANCIA | M2: IMPORTES PARA LA INFANCIA DE LA CATEGORÍA A | N2: IMPORTES PARA LA INFANCIA DE LA CATEGORÍA C | O2: IMPORTES PARA LA INFANCIA DE LA CATEGORÍA D | P2: IMPORTES PARA LA INFANCIA DE LA CATEGORÍA E | Q2: DERECHOS | R2: DERECHOS DETALLADOS | S2: ODS | T2: OBJETIVO CIUDADES AMIGAS DE LA INFANCIA
A3: 1534 REPARACIÓN,CONSERVACIÓN Y MANTENIMIENTO DE ESPACIOS URBANOS | B3: 12000 | C3: RETRIBUCIONES BASICAS DE FUNCIONARIOS | D3: 1000000 | E3: =IF(IF(OR(LEFT(B3,1)="8",LEFT(B3,1)="9"),1,0)+IF(OR(LEFT(B3,2)="46",LEFT(B3,2)="49",LEFT(B3,2)="76",LEFT(B3,2)="79"),1,0)>0,0,1) -> 1 | F3: =+D3*E3 -> 1000000 | G3: =IF(E3=0,0,INDEX(Programas!$A$3:$Q$5,MATCH(Presupuestos!A3,Programas!$A$3:$A$5,0),2)*F3) -> 250000 | H3: =IF(E3=0,0,INDEX(Programas!$A$3:$Q$5,MATCH(Presupuestos!A3,Programas!$A$3:$A$5,0),3)*F3) -> 0 | I3: =IF(E3=0,0,INDEX(Programas!$A$3:$Q$5,MATCH(Presupuestos!A3,Programas!$A$3:$A$5,0),4)*F3) -> 0 | J3: =IF(E3=0,0,INDEX(Programas!$A$3:$Q$5,MATCH(Presupuestos!A3,Programas!$A$3:$A$5,0),5)*F3) -> 750000 | K3: =IF(E3=0,0,INDEX(Programas!$A$3:$Q$5,MATCH(Presupuestos!A3,Programas!$A$3:$A$5,0),6)*F3) -> 0 | L3: =+M3+N3+O3+P3 -> 380500 | M3: =IF(E3=0,0,INDEX(Programas!$A$3:$Q$5,MATCH(Presupuestos!A3,Programas!$A$3:$A$5,0),13)*F3) -> 250000 | N3: =IF(E3=0,0,INDEX(Programas!$A$3:$Q$5,MATCH(Presupuestos!A3,Programas!$A$3:$A$5,0),14)*F3) -> 0 | O3: =IF(E3=0,0,INDEX(Programas!$A$3:$Q$5,MATCH(Presupuestos!A3,Programas!$A$3:$A$5,0),15)*F3) -> 130500 | P3: =IF(E3=0,0,INDEX(Programas!$A$3:$Q$5,MATCH(Presupuestos!A3,Programas!$A$3:$A$5,0),16)*F3) -> 0 | Q3: =IFERROR(INDEX(Programas!$A$3:$T$5,MATCH(Presupuestos!A3,Programas!$A$3:$A$5,0),18),"9 Otros bienes públicos") -> 1 Derecho a la supervivencia | R3: =IFERROR(INDEX(Programas!$A$3:$T$5,MATCH(Presupuestos!A3,Programas!$A$3:$A$5,0),19),"9 Otros bienes públicos") -> 12 Vivienda e infraestructuras básicas | S3: =IFERROR(INDEX(Programas!$A$3:$T$5,MATCH(Presupuestos!A3,Programas!$A$3:$A$5,0),20),"9 Otros bienes públicos") -> 11 Ciudades y Comunidades Sostenibles | T3: =IFERROR(INDEX(Programas!$A$3:$U$5,MATCH(Presupuestos!A3,Programas!$A$3:$A$5,0),21),"9 Otros bienes públicos") -> Entornos
A4: 1534 REPARACIÓN,CONSERVACIÓN Y MANTENIMIENTO DE ESPACIOS URBANOS | B4: 12100 | C4: RETRIBUCIONES COMPLEMENTARIAS FUNCIONARIOS | D4: 1500000 | E4: =IF(IF(OR(LEFT(B4,1)="8",LEFT(B4,1)="9"),1,0)+IF(OR(LEFT(B4,2)="46",LEFT(B4,2)="49",LEFT(B4,2)="76",LEFT(B4,2)="79"),1,0)>0,0,1) -> 1 | F4: =+D4*E4 -> 1500000 | G4: =IF(E4=0,0,INDEX(Programas!$A$3:$Q$5,MATCH(Presupuestos!A4,Programas!$A$3:$A$5,0),2)*F4) -> 375000 | H4: =IF(E4=0,0,INDEX(Programas!$A$3:$Q$5,MATCH(Presupuestos!A4,Programas!$A$3:$A$5,0),3)*F4) -> 0 | I4: =IF(E4=0,0,INDEX(Programas!$A$3:$Q$5,MATCH(Presupuestos!A4,Programas!$A$3:$A$5,0),4)*F4) -> 0 | J4: =IF(E4=0,0,INDEX(Programas!$A$3:$Q$5,MATCH(Presupuestos!A4,Programas!$A$3:$A$5,0),5)*F4) -> 1125000 | K4: =IF(E4=0,0,INDEX(Programas!$A$3:$Q$5,MATCH(Presupuestos!A4,Programas!$A$3:$A$5,0),6)*F4) -> 0 | L4: =+M4+N4+O4+P4 -> 570750 | M4: =IF(E4=0,0,INDEX(Programas!$A$3:$Q$5,MATCH(Presupuestos!A4,Programas!$A$3:$A$5,0),13)*F4) -> 375000 | N4: =IF(E4=0,0,INDEX(Programas!$A$3:$Q$5,MATCH(Presupuestos!A4,Programas!$A$3:$A$5,0),14)*F4) -> 0 | O4: =IF(E4=0,0,INDEX(Programas!$A$3:$Q$5,MATCH(Presupuestos!A4,Programas!$A$3:$A$5,0),15)*F4) -> 195750 | P4: =IF(E4=0,0,INDEX(Programas!$A$3:$Q$5,MATCH(Presupuestos!A4,Programas!$A$3:$A$5,0),16)*F4) -> 0 | Q4: =IFERROR(INDEX(Programas!$A$3:$T$5,MATCH(Presupuestos!A4,Programas!$A$3:$A$5,0),18),"9 Otros bienes públicos") -> 1 Derecho a la supervivencia | R4: =IFERROR(INDEX(Programas!$A$3:$T$5,MATCH(Presupuestos!A4,Programas!$A$3:$A$5,0),19),"9 Otros bienes públicos") -> 12 Vivienda e infraestructuras básicas | S4: =IFERROR(INDEX(Programas!$A$3:$T$5,MATCH(Presupuestos!A4,Programas!$A$3:$A$5,0),20),"9 Otros bienes públicos") -> 11 Ciudades y Comunidades Sostenibles | T4: =IFERROR(INDEX(Programas!$A$3:$U$5,MATCH(Presupuestos!A4,Programas!$A$3:$A$5,0),21),"9 Otros bienes públicos") -> Entornos
A5: 1534 REPARACIÓN,CONSERVACIÓN Y MANTENIMIENTO DE ESPACIOS URBANOS | B5: 14100 | C5: OTRO PERSONAL | D5: 500000 | E5: =IF(IF(OR(LEFT(B5,1)="8",LEFT(B5,1)="9"),1,0)+IF(OR(LEFT(B5,2)="46",LEFT(B5,2)="49",LEFT(B5,2)="76",LEFT(B5,2)="79"),1,0)>0,0,1) -> 1 | F5: =+D5*E5 -> 500000 | G5: =IF(E5=0,0,INDEX(Programas!$A$3:$Q$5,MATCH(Presupuestos!A5,Programas!$A$3:$A$5,0),2)*F5) -> 125000 | H5: =IF(E5=0,0,INDEX(Programas!$A$3:$Q$5,MATCH(Presupuestos!A5,Programas!$A$3:$A$5,0),3)*F5) -> 0 | I5: =IF(E5=0,0,INDEX(Programas!$A$3:$Q$5,MATCH(Presupuestos!A5,Programas!$A$3:$A$5,0),4)*F5) -> 0 | J5: =IF(E5=0,0,INDEX(Programas!$A$3:$Q$5,MATCH(Presupuestos!A5,Programas!$A$3:$A$5,0),5)*F5) -> 375000 | K5: =IF(E5=0,0,INDEX(Programas!$A$3:$Q$5,MATCH(Presupuestos!A5,Programas!$A$3:$A$5,0),6)*F5) -> 0 | L5: =+M5+N5+O5+P5 -> 190250 | M5: =IF(E5=0,0,INDEX(Programas!$A$3:$Q$5,MATCH(Presupuestos!A5,Programas!$A$3:$A$5,0),13)*F5) -> 125000 | N5: =IF(E5=0,0,INDEX(Programas!$A$3:$Q$5,MATCH(Presupuestos!A5,Programas!$A$3:$A$5,0),14)*F5) -> 0 | O5: =IF(E5=0,0,INDEX(Programas!$A$3:$Q$5,MATCH(Presupuestos!A5,Programas!$A$3:$A$5,0),15)*F5) -> 65250 | P5: =IF(E5=0,0,INDEX(Programas!$A$3:$Q$5,MATCH(Presupuestos!A5,Programas!$A$3:$A$5,0),16)*F5) -> 0 | Q5: =IFERROR(INDEX(Programas!$A$3:$T$5,MATCH(Presupuestos!A5,Programas!$A$3:$A$5,0),18),"9 Otros bienes públicos") -> 1 Derecho a la supervivencia | R5: =IFERROR(INDEX(Programas!$A$3:$T$5,MATCH(Presupuestos!A5,Programas!$A$3:$A$5,0),19),"9 Otros bienes públicos") -> 12 Vivienda e infraestructuras básicas | S5: =IFERROR(INDEX(Programas!$A$3:$T$5,MATCH(Presupuestos!A5,Programas!$A$3:$A$5,0),20),"9 Otros bienes públicos") -> 11 Ciudades y Comunidades Sostenibles | T5: =IFERROR(INDEX(Programas!$A$3:$U$5,MATCH(Presupuestos!A5,Programas!$A$3:$A$5,0),21),"9 Otros bienes públicos") -> Entornos
A6: 1534 REPARACIÓN,CONSERVACIÓN Y MANTENIMIENTO DE ESPACIOS URBANOS | B6: 16000 | C6: SEGURIDAD SOCIAL A CARGO DEL AYUNTAMIENTO | D6: 1000000 | E6: =IF(IF(OR(LEFT(B6,1)="8",LEFT(B6,1)="9"),1,0)+IF(OR(LEFT(B6,2)="46",LEFT(B6,2)="49",LEFT(B6,2)="76",LEFT(B6,2)="79"),1,0)>0,0,1) -> 1 | F6: =+D6*E6 -> 1000000 | G6: =IF(E6=0,0,INDEX(Programas!$A$3:$Q$5,MATCH(Presupuestos!A6,Programas!$A$3:$A$5,0),2)*F6) -> 250000 | H6: =IF(E6=0,0,INDEX(Programas!$A$3:$Q$5,MATCH(Presupuestos!A6,Programas!$A$3:$A$5,0),3)*F6) -> 0 | I6: =IF(E6=0,0,INDEX(Programas!$A$3:$Q$5,MATCH(Presupuestos!A6,Programas!$A$3:$A$5,0),4)*F6) -> 0 | J6: =IF(E6=0,0,INDEX(Programas!$A$3:$Q$5,MATCH(Presupuestos!A6,Programas!$A$3:$A$5,0),5)*F6) -> 750000 | K6: =IF(E6=0,0,INDEX(Programas!$A$3:$Q$5,MATCH(Presupuestos!A6,Programas!$A$3:$A$5,0),6)*F6) -> 0 | L6: =+M6+N6+O6+P6 -> 380500 | M6: =IF(E6=0,0,INDEX(Programas!$A$3:$Q$5,MATCH(Presupuestos!A6,Programas!$A$3:$A$5,0),13)*F6) -> 250000 | N6: =IF(E6=0,0,INDEX(Programas!$A$3:$Q$5,MATCH(Presupuestos!A6,Programas!$A$3:$A$5,0),14)*F6) -> 0 | O6: =IF(E6=0,0,INDEX(Programas!$A$3:$Q$5,MATCH(Presupuestos!A6,Programas!$A$3:$A$5,0),15)*F6) -> 130500 | P6: =IF(E6=0,0,INDEX(Programas!$A$3:$Q$5,MATCH(Presupuestos!A6,Programas!$A$3:$A$5,0),16)*F6) -> 0 | Q6: =IFERROR(INDEX(Programas!$A$3:$T$5,MATCH(Presupuestos!A6,Programas!$A$3:$A$5,0),18),"9 Otros bienes públicos") -> 1 Derecho a la supervivencia | R6: =IFERROR(INDEX(Programas!$A$3:$T$5,MATCH(Presupuestos!A6,Programas!$A$3:$A$5,0),19),"9 Otros bienes públicos") -> 12 Vivienda e infraestructuras básicas | S6: =IFERROR(INDEX(Programas!$A$3:$T$5,MATCH(Presupuestos!A6,Programas!$A$3:$A$5,0),20),"9 Otros bienes públicos") -> 11 Ciudades y Comunidades Sostenibles | T6: =IFERROR(INDEX(Programas!$A$3:$U$5,MATCH(Presupuestos!A6,Programas!$A$3:$A$5,0),21),"9 Otros bienes públicos") -> Entornos
A7: 1534 REPARACIÓN,CONSERVACIÓN Y MANTENIMIENTO DE ESPACIOS URBANOS | B7: 16500 | C7: CUOTAS PENSIONES A CARGO AYUNTAMIENTO | D7: 40000 | E7: =IF(IF(OR(LEFT(B7,1)="8",LEFT(B7,1)="9"),1,0)+IF(OR(LEFT(B7,2)="46",LEFT(B7,2)="49",LEFT(B7,2)="76",LEFT(B7,2)="79"),1,0)>0,0,1) -> 1 | F7: =+D7*E7 -> 40000 | G7: =IF(E7=0,0,INDEX(Programas!$A$3:$Q$5,MATCH(Presupuestos!A7,Programas!$A$3:$A$5,0),2)*F7) -> 10000 | H7: =IF(E7=0,0,INDEX(Programas!$A$3:$Q$5,MATCH(Presupuestos!A7,Programas!$A$3:$A$5,0),3)*F7) -> 0 | I7: =IF(E7=0,0,INDEX(Programas!$A$3:$Q$5,MATCH(Presupuestos!A7,Programas!$A$3:$A$5,0),4)*F7) -> 0 | J7: =IF(E7=0,0,INDEX(Programas!$A$3:$Q$5,MATCH(Presupuestos!A7,Programas!$A$3:$A$5,0),5)*F7) -> 30000 | K7: =IF(E7=0,0,INDEX(Programas!$A$3:$Q$5,MATCH(Presupuestos!A7,Programas!$A$3:$A$5,0),6)*F7) -> 0 | L7: =+M7+N7+O7+P7 -> 15220 | M7: =IF(E7=0,0,INDEX(Programas!$A$3:$Q$5,MATCH(Presupuestos!A7,Programas!$A$3:$A$5,0),13)*F7) -> 10000 | N7: =IF(E7=0,0,INDEX(Programas!$A$3:$Q$5,MATCH(Presupuestos!A7,Programas!$A$3:$A$5,0),14)*F7) -> 0 | O7: =IF(E7=0,0,INDEX(Programas!$A$3:$Q$5,MATCH(Presupuestos!A7,Programas!$A$3:$A$5,0),15)*F7) -> 5220 | P7: =IF(E7=0,0,INDEX(Programas!$A$3:$Q$5,MATCH(Presupuestos!A7,Programas!$A$3:$A$5,0),16)*F7) -> 0 | Q7: =IFERROR(INDEX(Programas!$A$3:$T$5,MATCH(Presupuestos!A7,Programas!$A$3:$A$5,0),18),"9 Otros bienes públicos") -> 1 Derecho a la supervivencia | R7: =IFERROR(INDEX(Programas!$A$3:$T$5,MATCH(Presupuestos!A7,Programas!$A$3:$A$5,0),19),"9 Otros bienes públicos") -> 12 Vivienda e infraestructuras básicas | S7: =IFERROR(INDEX(Programas!$A$3:$T$5,MATCH(Presupuestos!A7,Programas!$A$3:$A$5,0),20),"9 Otros bienes públicos") -> 11 Ciudades y Comunidades Sostenibles | T7: =IFERROR(INDEX(Programas!$A$3:$U$5,MATCH(Presupuestos!A7,Programas!$A$3:$A$5,0),21),"9 Otros bienes públicos") -> Entornos
A8: 1534 REPARACIÓN,CONSERVACIÓN Y MANTENIMIENTO DE ESPACIOS URBANOS | B8: 20200 | C8: ARRENDAMIENTO DE MAQUINARIA E INSTALACIONES | D8: 30000 | E8: =IF(IF(OR(LEFT(B8,1)="8",LEFT(B8,1)="9"),1,0)+IF(OR(LEFT(B8,2)="46",LEFT(B8,2)="49",LEFT(B8,2)="76",LEFT(B8,2)="79"),1,0)>0,0,1) -> 1 | F8: =+D8*E8 -> 30000 | G8: =IF(E8=0,0,INDEX(Programas!$A$3:$Q$5,MATCH(Presupuestos!A8,Programas!$A$3:$A$5,0),2)*F8) -> 7500 | H8: =IF(E8=0,0,INDEX(Programas!$A$3:$Q$5,MATCH(Presupuestos!A8,Programas!$A$3:$A$5,0),3)*F8) -> 0 | I8: =IF(E8=0,0,INDEX(Programas!$A$3:$Q$5,MATCH(Presupuestos!A8,Programas!$A$3:$A$5,0),4)*F8) -> 0 | J8: =IF(E8=0,0,INDEX(Programas!$A$3:$Q$5,MATCH(Presupuestos!A8,Programas!$A$3:$A$5,0),5)*F8) -> 22500 | K8: =IF(E8=0,0,INDEX(Programas!$A$3:$Q$5,MATCH(Presupuestos!A8,Programas!$A$3:$A$5,0),6)*F8) -> 0 | L8: =+M8+N8+O8+P8 -> 11415 | M8: =IF(E8=0,0,INDEX(Programas!$A$3:$Q$5,MATCH(Presupuestos!A8,Programas!$A$3:$A$5,0),13)*F8) -> 7500 | N8: =IF(E8=0,0,INDEX(Programas!$A$3:$Q$5,MATCH(Presupuestos!A8,Programas!$A$3:$A$5,0),14)*F8) -> 0 | O8: =IF(E8=0,0,INDEX(Programas!$A$3:$Q$5,MATCH(Presupuestos!A8,Programas!$A$3:$A$5,0),15)*F8) -> 3915 | P8: =IF(E8=0,0,INDEX(Programas!$A$3:$Q$5,MATCH(Presupuestos!A8,Programas!$A$3:$A$5,0),16)*F8) -> 0 | Q8: =IFERROR(INDEX(Programas!$A$3:$T$5,MATCH(Presupuestos!A8,Programas!$A$3:$A$5,0),18),"9 Otros bienes públicos") -> 1 Derecho a la supervivencia | R8: =IFERROR(INDEX(Programas!$A$3:$T$5,MATCH(Presupuestos!A8,Programas!$A$3:$A$5,0),19),"9 Otros bienes públicos") -> 12 Vivienda e infraestructuras básicas | S8: =IFERROR(INDEX(Programas!$A$3:$T$5,MATCH(Presupuestos!A8,Programas!$A$3:$A$5,0),20),"9 Otros bienes públicos") -> 11 Ciudades y Comunidades Sostenibles | T8: =IFERROR(INDEX(Programas!$A$3:$U$5,MATCH(Presupuestos!A8,Programas!$A$3:$A$5,0),21),"9 Otros bienes públicos") -> Entornos
A9: 1534 REPARACIÓN,CONSERVACIÓN Y MANTENIMIENTO DE ESPACIOS URBANOS | B9: 21008 | C9: JUEGOS INFANTILES | D9: 170000 | E9: =IF(IF(OR(LEFT(B9,1)="8",LEFT(B9,1)="9"),1,0)+IF(OR(LEFT(B9,2)="46",LEFT(B9,2)="49",LEFT(B9,2)="76",LEFT(B9,2)="79"),1,0)>0,0,1) -> 1 | F9: =+D9*E9 -> 170000 | G9: =IF(E9=0,0,INDEX(Programas!$A$3:$Q$5,MATCH(Presupuestos!A9,Programas!$A$3:$A$5,0),2)*F9) -> 42500 | H9: =IF(E9=0,0,INDEX(Programas!$A$3:$Q$5,MATCH(Presupuestos!A9,Programas!$A$3:$A$5,0),3)*F9) -> 0 | I9: =IF(E9=0,0,INDEX(Programas!$A$3:$Q$5,MATCH(Presupuestos!A9,Programas!$A$3:$A$5,0),4)*F9) -> 0 | J9: =IF(E9=0,0,INDEX(Programas!$A$3:$Q$5,MATCH(Presupuestos!A9,Programas!$A$3:$A$5,0),5)*F9) -> 127500 | K9: =IF(E9=0,0,INDEX(Programas!$A$3:$Q$5,MATCH(Presupuestos!A9,Programas!$A$3:$A$5,0),6)*F9) -> 0 | L9: =+M9+N9+O9+P9 -> 64685 | M9: =IF(E9=0,0,INDEX(Programas!$A$3:$Q$5,MATCH(Presupuestos!A9,Programas!$A$3:$A$5,0),13)*F9) -> 42500 | N9: =IF(E9=0,0,INDEX(Programas!$A$3:$Q$5,MATCH(Presupuestos!A9,Programas!$A$3:$A$5,0),14)*F9) -> 0 | O9: =IF(E9=0,0,INDEX(Programas!$A$3:$Q$5,MATCH(Presupuestos!A9,Programas!$A$3:$A$5,0),15)*F9) -> 22185 | P9: =IF(E9=0,0,INDEX(Programas!$A$3:$Q$5,MATCH(Presupuestos!A9,Programas!$A$3:$A$5,0),16)*F9) -> 0 | Q9: =IFERROR(INDEX(Programas!$A$3:$T$5,MATCH(Presupuestos!A9,Programas!$A$3:$A$5,0),18),"9 Otros bienes públicos") -> 1 Derecho a la supervivencia | R9: =IFERROR(INDEX(Programas!$A$3:$T$5,MATCH(Presupuestos!A9,Programas!$A$3:$A$5,0),19),"9 Otros bienes públicos") -> 12 Vivienda e infraestructuras básicas | S9: =IFERROR(INDEX(Programas!$A$3:$T$5,MATCH(Presupuestos!A9,Programas!$A$3:$A$5,0),20),"9 Otros bienes públicos") -> 11 Ciudades y Comunidades Sostenibles | T9: =IFERROR(INDEX(Programas!$A$3:$U$5,MATCH(Presupuestos!A9,Programas!$A$3:$A$5,0),21),"9 Otros bienes públicos") -> Entornos
A10: 1534 REPARACIÓN,CONSERVACIÓN Y MANTENIMIENTO DE ESPACIOS URBANOS | B10: 21009 | C10: RENOVACIÓN JUEGOS INFANTILES OBSOLETOS | D10: 2150000 | E10: =IF(IF(OR(LEFT(B10,1)="8",LEFT(B10,1)="9"),1,0)+IF(OR(LEFT(B10,2)="46",LEFT(B10,2)="49",LEFT(B10,2)="76",LEFT(B10,2)="79"),1,0)>0,0,1) -> 1 | F10: =+D10*E10 -> 2150000 | G10: =IF(E10=0,0,INDEX(Programas!$A$3:$Q$5,MATCH(Presupuestos!A10,Programas!$A$3:$A$5,0),2)*F10) -> 537500 | H10: =IF(E10=0,0,INDEX(Programas!$A$3:$Q$5,MATCH(Presupuestos!A10,Programas!$A$3:$A$5,0),3)*F10) -> 0 | I10: =IF(E10=0,0,INDEX(Programas!$A$3:$Q$5,MATCH(Presupuestos!A10,Programas!$A$3:$A$5,0),4)*F10) -> 0 | J10: =IF(E10=0,0,INDEX(Programas!$A$3:$Q$5,MATCH(Presupuestos!A10,Programas!$A$3:$A$5,0),5)*F10) -> 1612500 | K10: =IF(E10=0,0,INDEX(Programas!$A$3:$Q$5,MATCH(Presupuestos!A10,Programas!$A$3:$A$5,0),6)*F10) -> 0 | L10: =+M10+N10+O10+P10 -> 818075 | M10: =IF(E10=0,0,INDEX(Programas!$A$3:$Q$5,MATCH(Presupuestos!A10,Programas!$A$3:$A$5,0),13)*F10) -> 537500 | N10: =IF(E10=0,0,INDEX(Programas!$A$3:$Q$5,MATCH(Presupuestos!A10,Programas!$A$3:$A$5,0),14)*F10) -> 0 | O10: =IF(E10=0,0,INDEX(Programas!$A$3:$Q$5,MATCH(Presupuestos!A10,Programas!$A$3:$A$5,0),15)*F10) -> 280575 | P10: =IF(E10=0,0,INDEX(Programas!$A$3:$Q$5,MATCH(Presupuestos!A10,Programas!$A$3:$A$5,0),16)*F10) -> 0 | Q10: =IFERROR(INDEX(Programas!$A$3:$T$5,MATCH(Presupuestos!A10,Programas!$A$3:$A$5,0),18),"9 Otros bienes públicos") -> 1 Derecho a la supervivencia | R10: =IFERROR(INDEX(Programas!$A$3:$T$5,MATCH(Presupuestos!A10,Programas!$A$3:$A$5,0),19),"9 Otros bienes públicos") -> 12 Vivienda e infraestructuras básicas | S10: =IFERROR(INDEX(Programas!$A$3:$T$5,MATCH(Presupuestos!A10,Programas!$A$3:$A$5,0),20),"9 Otros bienes públicos") -> 11 Ciudades y Comunidades Sostenibles | T10: =IFERROR(INDEX(Programas!$A$3:$U$5,MATCH(Presupuestos!A10,Programas!$A$3:$A$5,0),21),"9 Otros bienes públicos") -> Entornos
A11: 1534 REPARACIÓN,CONSERVACIÓN Y MANTENIMIENTO DE ESPACIOS URBANOS | B11: 21060 | C11: CONSERVACION DE VIAS PUBLICAS Y FIRMES | D11: 500000 | E11: =IF(IF(OR(LEFT(B11,1)="8",LEFT(B11,1)="9"),1,0)+IF(OR(LEFT(B11,2)="46",LEFT(B11,2)="49",LEFT(B11,2)="76",LEFT(B11,2)="79"),1,0)>0,0,1) -> 1 | F11: =+D11*E11 -> 500000 | G11: =IF(E11=0,0,INDEX(Programas!$A$3:$Q$5,MATCH(Presupuestos!A11,Programas!$A$3:$A$5,0),2)*F11) -> 125000 | H11: =IF(E11=0,0,INDEX(Programas!$A$3:$Q$5,MATCH(Presupuestos!A11,Programas!$A$3:$A$5,0),3)*F11) -> 0 | I11: =IF(E11=0,0,INDEX(Programas!$A$3:$Q$5,MATCH(Presupuestos!A11,Programas!$A$3:$A$5,0),4)*F11) -> 0 | J11: =IF(E11=0,0,INDEX(Programas!$A$3:$Q$5,MATCH(Presupuestos!A11,Programas!$A$3:$A$5,0),5)*F11) -> 375000 | K11: =IF(E11=0,0,INDEX(Programas!$A$3:$Q$5,MATCH(Presupuestos!A11,Programas!$A$3:$A$5,0),6)*F11) -> 0 | L11: =+M11+N11+O11+P11 -> 190250 | M11: =IF(E11=0,0,INDEX(Programas!$A$3:$Q$5,MATCH(Presupuestos!A11,Programas!$A$3:$A$5,0),13)*F11) -> 125000 | N11: =IF(E11=0,0,INDEX(Programas!$A$3:$Q$5,MATCH(Presupuestos!A11,Programas!$A$3:$A$5,0),14)*F11) -> 0 | O11: =IF(E11=0,0,INDEX(Programas!$A$3:$Q$5,MATCH(Presupuestos!A11,Programas!$A$3:$A$5,0),15)*F11) -> 65250 | P11: =IF(E11=0,0,INDEX(Programas!$A$3:$Q$5,MATCH(Presupuestos!A11,Programas!$A$3:$A$5,0),16)*F11) -> 0 | Q11: =IFERROR(INDEX(Programas!$A$3:$T$5,MATCH(Presupuestos!A11,Programas!$A$3:$A$5,0),18),"9 Otros bienes públicos") -> 1 Derecho a la supervivencia | R11: =IFERROR(INDEX(Programas!$A$3:$T$5,MATCH(Presupuestos!A11,Programas!$A$3:$A$5,0),19),"9 Otros bienes públicos") -> 12 Vivienda e infraestructuras básicas | S11: =IFERROR(INDEX(Programas!$A$3:$T$5,MATCH(Presupuestos!A11,Programas!$A$3:$A$5,0),20),"9 Otros bienes públicos") -> 11 Ciudades y Comunidades Sostenibles | T11: =IFERROR(INDEX(Programas!$A$3:$U$5,MATCH(Presupuestos!A11,Programas!$A$3:$A$5,0),21),"9 Otros bienes públicos") -> Entornos
A12: 1534 REPARACIÓN,CONSERVACIÓN Y MANTENIMIENTO DE ESPACIOS URBANOS | B12: 21062 | C12: MANTENIMIENTO DE LOS FIRMES Y AGLOMERADOS | D12: 2000000 | E12: =IF(IF(OR(LEFT(B12,1)="8",LEFT(B12,1)="9"),1,0)+IF(OR(LEFT(B12,2)="46",LEFT(B12,2)="49",LEFT(B12,2)="76",LEFT(B12,2)="79"),1,0)>0,0,1) -> 1 | F12: =+D12*E12 -> 2000000 | G12: =IF(E12=0,0,INDEX(Programas!$A$3:$Q$5,MATCH(Presupuestos!A12,Programas!$A$3:$A$5,0),2)*F12) -> 500000 | H12: =IF(E12=0,0,INDEX(Programas!$A$3:$Q$5,MATCH(Presupuestos!A12,Programas!$A$3:$A$5,0),3)*F12) -> 0 | I12: =IF(E12=0,0,INDEX(Programas!$A$3:$Q$5,MATCH(Presupuestos!A12,Programas!$A$3:$A$5,0),4)*F12) -> 0 | J12: =IF(E12=0,0,INDEX(Programas!$A$3:$Q$5,MATCH(Presupuestos!A12,Programas!$A$3:$A$5,0),5)*F12) -> 1500000 | K12: =IF(E12=0,0,INDEX(Programas!$A$3:$Q$5,MATCH(Presupuestos!A12,Programas!$A$3:$A$5,0),6)*F12) -> 0 | L12: =+M12+N12+O12+P12 -> 761000 | M12: =IF(E12=0,0,INDEX(Programas!$A$3:$Q$5,MATCH(Presupuestos!A12,Programas!$A$3:$A$5,0),13)*F12) -> 500000 | N12: =IF(E12=0,0,INDEX(Programas!$A$3:$Q$5,MATCH(Presupuestos!A12,Programas!$A$3:$A$5,0),14)*F12) -> 0 | O12: =IF(E12=0,0,INDEX(Programas!$A$3:$Q$5,MATCH(Presupuestos!A12,Programas!$A$3:$A$5,0),15)*F12) -> 261000 | P12: =IF(E12=0,0,INDEX(Programas!$A$3:$Q$5,MATCH(Presupuestos!A12,Programas!$A$3:$A$5,0),16)*F12) -> 0 | Q12: =IFERROR(INDEX(Programas!$A$3:$T$5,MATCH(Presupuestos!A12,Programas!$A$3:$A$5,0),18),"9 Otros bienes públicos") -> 1 Derecho a la supervivencia | R12: =IFERROR(INDEX(Programas!$A$3:$T$5,MATCH(Presupuestos!A12,Programas!$A$3:$A$5,0),19),"9 Otros bienes públicos") -> 12 Vivienda e infraestructuras básicas | S12: =IFERROR(INDEX(Programas!$A$3:$T$5,MATCH(Presupuestos!A12,Programas!$A$3:$A$5,0),20),"9 Otros bienes públicos") -> 11 Ciudades y Comunidades Sostenibles | T12: =IFERROR(INDEX(Programas!$A$3:$U$5,MATCH(Presupuestos!A12,Programas!$A$3:$A$5,0),21),"9 Otros bienes públicos") -> Entornos
A13: 1534 REPARACIÓN,CONSERVACIÓN Y MANTENIMIENTO DE ESPACIOS URBANOS | B13: 21701 | C13: CONSERVACION MOBILIARIO URBANO | D13: 60000 | E13: =IF(IF(OR(LEFT(B13,1)="8",LEFT(B13,1)="9"),1,0)+IF(OR(LEFT(B13,2)="46",LEFT(B13,2)="49",LEFT(B13,2)="76",LEFT(B13,2)="79"),1,0)>0,0,1) -> 1 | F13: =+D13*E13 -> 60000 | G13: =IF(E13=0,0,INDEX(Programas!$A$3:$Q$5,MATCH(Presupuestos!A13,Programas!$A$3:$A$5,0),2)*F13) -> 15000 | H13: =IF(E13=0,0,INDEX(Programas!$A$3:$Q$5,MATCH(Presupuestos!A13,Programas!$A$3:$A$5,0),3)*F13) -> 0 | I13: =IF(E13=0,0,INDEX(Programas!$A$3:$Q$5,MATCH(Presupuestos!A13,Programas!$A$3:$A$5,0),4)*F13) -> 0 | J13: =IF(E13=0,0,INDEX(Programas!$A$3:$Q$5,MATCH(Presupuestos!A13,Programas!$A$3:$A$5,0),5)*F13) -> 45000 | K13: =IF(E13=0,0,INDEX(Programas!$A$3:$Q$5,MATCH(Presupuestos!A13,Programas!$A$3:$A$5,0),6)*F13) -> 0 | L13: =+M13+N13+O13+P13 -> 22830 | M13: =IF(E13=0,0,INDEX(Programas!$A$3:$Q$5,MATCH(Presupuestos!A13,Programas!$A$3:$A$5,0),13)*F13) -> 15000 | N13: =IF(E13=0,0,INDEX(Programas!$A$3:$Q$5,MATCH(Presupuestos!A13,Programas!$A$3:$A$5,0),14)*F13) -> 0 | O13: =IF(E13=0,0,INDEX(Programas!$A$3:$Q$5,MATCH(Presupuestos!A13,Programas!$A$3:$A$5,0),15)*F13) -> 7830 | P13: =IF(E13=0,0,INDEX(Programas!$A$3:$Q$5,MATCH(Presupuestos!A13,Programas!$A$3:$A$5,0),16)*F13) -> 0 | Q13: =IFERROR(INDEX(Programas!$A$3:$T$5,MATCH(Presupuestos!A13,Programas!$A$3:$A$5,0),18),"9 Otros bienes públicos") -> 1 Derecho a la supervivencia | R13: =IFERROR(INDEX(Programas!$A$3:$T$5,MATCH(Presupuestos!A13,Programas!$A$3:$A$5,0),19),"9 Otros bienes públicos") -> 12 Vivienda e infraestructuras básicas | S13: =IFERROR(INDEX(Programas!$A$3:$T$5,MATCH(Presupuestos!A13,Programas!$A$3:$A$5,0),20),"9 Otros bienes públicos") -> 11 Ciudades y Comunidades Sostenibles | T13: =IFERROR(INDEX(Programas!$A$3:$U$5,MATCH(Presupuestos!A13,Programas!$A$3:$A$5,0),21),"9 Otros bienes públicos") -> Entornos
A14: 1534 REPARACIÓN,CONSERVACIÓN Y MANTENIMIENTO DE ESPACIOS URBANOS | B14: 21703 | C14: CONTRATO MANTENIMIENTO DE RAMPAS | D14: 100000 | E14: =IF(IF(OR(LEFT(B14,1)="8",LEFT(B14,1)="9"),1,0)+IF(OR(LEFT(B14,2)="46",LEFT(B14,2)="49",LEFT(B14,2)="76",LEFT(B14,2)="79"),1,0)>0,0,1) -> 1 | F14: =+D14*E14 -> 100000 | G14: =IF(E14=0,0,INDEX(Programas!$A$3:$Q$5,MATCH(Presupuestos!A14,Programas!$A$3:$A$5,0),2)*F14) -> 25000 | H14: =IF(E14=0,0,INDEX(Programas!$A$3:$Q$5,MATCH(Presupuestos!A14,Programas!$A$3:$A$5,0),3)*F14) -> 0 | I14: =IF(E14=0,0,INDEX(Programas!$A$3:$Q$5,MATCH(Presupuestos!A14,Programas!$A$3:$A$5,0),4)*F14) -> 0 | J14: =IF(E14=0,0,INDEX(Programas!$A$3:$Q$5,MATCH(Presupuestos!A14,Programas!$A$3:$A$5,0),5)*F14) -> 75000 | K14: =IF(E14=0,0,INDEX(Programas!$A$3:$Q$5,MATCH(Presupuestos!A14,Programas!$A$3:$A$5,0),6)*F14) -> 0 | L14: =+M14+N14+O14+P14 -> 38050 | M14: =IF(E14=0,0,INDEX(Programas!$A$3:$Q$5,MATCH(Presupuestos!A14,Programas!$A$3:$A$5,0),13)*F14) -> 25000 | N14: =IF(E14=0,0,INDEX(Programas!$A$3:$Q$5,MATCH(Presupuestos!A14,Programas!$A$3:$A$5,0),14)*F14) -> 0 | O14: =IF(E14=0,0,INDEX(Programas!$A$3:$Q$5,MATCH(Presupuestos!A14,Programas!$A$3:$A$5,0),15)*F14) -> 13050 | P14: =IF(E14=0,0,INDEX(Programas!$A$3:$Q$5,MATCH(Presupuestos!A14,Programas!$A$3:$A$5,0),16)*F14) -> 0 | Q14: =IFERROR(INDEX(Programas!$A$3:$T$5,MATCH(Presupuestos!A14,Programas!$A$3:$A$5,0),18),"9 Otros bienes públicos") -> 1 Derecho a la supervivencia | R14: =IFERROR(INDEX(Programas!$A$3:$T$5,MATCH(Presupuestos!A14,Programas!$A$3:$A$5,0),19),"9 Otros bienes públicos") -> 12 Vivienda e infraestructuras básicas | S14: =IFERROR(INDEX(Programas!$A$3:$T$5,MATCH(Presupuestos!A14,Programas!$A$3:$A$5,0),20),"9 Otros bienes públicos") -> 11 Ciudades y Comunidades Sostenibles | T14: =IFERROR(INDEX(Programas!$A$3:$U$5,MATCH(Presupuestos!A14,Programas!$A$3:$A$5,0),21),"9 Otros bienes públicos") -> Entornos
... A34: 3232 COLABORACIÓN EDUCATIVA CON CENTROS ESCOLARES | B34: 22780 | C34: PROGRAMA VACACIONAL FAMILIAS | D34: 200000 | E34: =IF(IF(OR(LEFT(B34,1)="8",LEFT(B34,1)="9"),1,0)+IF(OR(LEFT(B34,2)="46",LEFT(B34,2)="49",LEFT(B34,2)="76",LEFT(B34,2)="79"),1,0)>0,0,1) -> 1 | F34: =+D34*E34 -> 200000 | G34: =IF(E34=0,0,INDEX(Programas!$A$3:$Q$5,MATCH(Presupuestos!A34,Programas!$A$3:$A$5,0),2)*F34) -> 123600 | H34: =IF(E34=0,0,INDEX(Programas!$A$3:$Q$5,MATCH(Presupuestos!A34,Programas!$A$3:$A$5,0),3)*F34) -> 0 | I34: =IF(E34=0,0,INDEX(Programas!$A$3:$Q$5,MATCH(Presupuestos!A34,Programas!$A$3:$A$5,0),4)*F34) -> 76400 | J34: =IF(E34=0,0,INDEX(Programas!$A$3:$Q$5,MATCH(Presupuestos!A34,Programas!$A$3:$A$5,0),5)*F34) -> 0 | K34: =IF(E34=0,0,INDEX(Programas!$A$3:$Q$5,MATCH(Presupuestos!A34,Programas!$A$3:$A$5,0),6)*F34) -> 0 | L34: =+M34+N34+O34+P34 -> 160272 | M34: =IF(E34=0,0,INDEX(Programas!$A$3:$Q$5,MATCH(Presupuestos!A34,Programas!$A$3:$A$5,0),13)*F34) -> 123600 | N34: =IF(E34=0,0,INDEX(Programas!$A$3:$Q$5,MATCH(Presupuestos!A34,Programas!$A$3:$A$5,0),14)*F34) -> 36672 | O34: =IF(E34=0,0,INDEX(Programas!$A$3:$Q$5,MATCH(Presupuestos!A34,Programas!$A$3:$A$5,0),15)*F34) -> 0 | P34: =IF(E34=0,0,INDEX(Programas!$A$3:$Q$5,MATCH(Presupuestos!A34,Programas!$A$3:$A$5,0),16)*F34) -> 0 | Q34: =IFERROR(INDEX(Programas!$A$3:$T$5,MATCH(Presupuestos!A34,Programas!$A$3:$A$5,0),18),"9 Otros bienes públicos") -> 2 Derecho al desarrollo pleno | R34: =IFERROR(INDEX(Programas!$A$3:$T$5,MATCH(Presupuestos!A34,Programas!$A$3:$A$5,0),19),"9 Otros bienes públicos") -> 21 Educación | S34: =IFERROR(INDEX(Programas!$A$3:$T$5,MATCH(Presupuestos!A34,Programas!$A$3:$A$5,0),20),"9 Otros bienes públicos") -> 4 Educación de Calidad | T34: =IFERROR(INDEX(Programas!$A$3:$U$5,MATCH(Presupuestos!A34,Programas!$A$3:$A$5,0),21),"9 Otros bienes públicos") -> Acceso a servicios

Sheet Derechos
B2: 1 Derecho a la supervivencia
B3: 11 Alimentación
B4: 12 Vivienda e infraestructuras básicas
B5: 13 Salud
B6: 14 Asistencia social
B7: 15 Bienestar económico
B8: 2 Derecho al desarrollo pleno
B9: 21 Educación
B10: 22 Cultura y ocio
B11: 23 Políticas de juventud
B12: 24 Desarrollo económico y medioambiental
B13: 3 Derecho a la protección
... B22: 99 Otros bienes públicos

Sheet ODS
A1: ODS
A2: 1 Fin de la Pobreza
A3: 2 Hambre Cero
A4: 3 Salud y Bienestar
A5: 4 Educación de Calidad
A6: 5 Igualdad de Género
A7: 6 Agua Limpia y Saneamiento
A8: 7 Energía Asequible y no Contaminante
A9: 8 Trabajo Decente y Crecimiento Económico
A10: 9 Industria, Innovación e Infraestructuras
A11: 10 Reducción de las Desigualdades
A12: 11 Ciudades y Comunidades Sostenibles
... A18: 17 Alianzas para Lograr los Objetivos

Sheet Politica Gasto
A1: Política de Gasto (2) | B1: Denominación
A2: 1 | B2: Deuda Pública.
A3: 13 | B3: Seguridad y movilidad ciudadana.
A4: 15 | B4: Vivienda y urbanismo.
A5: 16 | B5: Bienestar comunitario.
A6: 17 | B6: Medio ambiente.
A7: 21 | B7: Pensiones.
A8: 22 | B8: Otras prestaciones económicas a favor de empleados.
A9: 23 | B9: Servicios Sociales y promoción social.
A10: 24 | B10: Fomento del Empleo.
A11: 31 | B11: Sanidad.
A12: 32 | B12: Educación.
A13: 33 | B13: Cultura.
... A25: 94 | B25: Transferencias a otras Administraciones Públicas.

Sheet CAI
B1: Objetivos | C1: Nombre abreviado
B2: Cada niño y niña es valorado, respetado y tratado justamente dentro de sus comunidades | C2: Justicia
B3: Las voces, necesidades y prioridades de cada niño y niña se escuchan y se consideran en las normativas y políticas públicas, en los presupuestos y en todas las decisiones que les afectan | C3: Participación
B4: Todos los niños y niñas tienen acceso a servicios esenciales de calidad | C4: Acceso a servicios
B5: Todos los niños y niñas viven en entornos seguros y limpios | C5: Entornos
B6: Todos los niños y niñas tienen la oportunidad de disfrutar de la vida familiar, el juego y el ocio | C6: Vida familiar, juego y ocio

Sheet Programas
A1: PROGRAMA | B1: REPARTO DEL PROGRAMA | G1: PONDERADORES ESPECÍFICOS | L1: PORCENTAJE QUE VA A INFANCIA | Q1: OBSERVACIONES ESPECÍFICAS RESPECTO A INFANCIA (EJEMPLOS) | R1: DERECHOS | S1: DERECHOS DETALLADOS | T1: ODS | U1: OBJETIVO CIUDADES AMIGAS DE LA INFANCIA
B2: A | C2: B | D2: C | E2: D | F2: E | G2: A | H2: B | I2: C | J2: D | K2: E | L2: TOTAL | M2: A | N2: C | O2: D | P2: E
A3: 1534 REPARACIÓN,CONSERVACIÓN Y MANTENIMIENTO DE ESPACIOS URBANOS | B3: 0.25 | C3: 0 | D3: 0 | E3: 0.75 | F3: 0 | G3: 1 | H3: 0 | I3: 0 | J3: 0.174 | K3: 0 | L3: =+B3*G3+C3*H3+D3*I3+E3*J3+F3*K3 -> 0.3805 | M3: =+B3*G3 -> 0.25 | N3: =+D3*I3 -> 0 | O3: =+E3*J3 -> 0.1305 | P3: =+F3*K3 -> 0 | Q3: Se han identificado partidas destinadas a infancia y a población en general | R3: 1 Derecho a la supervivencia | S3: 12 Vivienda e infraestructuras básicas | T3: 11 Ciudades y Comunidades Sostenibles | U3: Entornos
A4: 2321 ATENCIÓN Y APOYO A PERSONAS Y FAMILIAS CON NECESIDADES SOCIALES | B4: 0.005 | C4: 0.389 | D4: 0.003 | E4: 0 | F4: 0.603 | G4: 1 | H4: 0 | I4: 0.55 | J4: 0.174 | K4: 0 | L4: =+B4*G4+C4*H4+D4*I4+E4*J4+F4*K4 -> 0.00665 | M4: =+B4*G4 -> 0.005 | N4: =+D4*I4 -> 0.00165 | O4: =+E4*J4 -> 0 | P4: =+F4*K4 -> 0 | Q4: Es un programa mixto en el que hay partidas para personas mayores pero tambien destinadas a poblacion en riesgo de exclusion y algunas específicas de infancia | R4: 1 Derecho a la supervivencia | S4: 14 Asistencia social | T4: 1 Fin de la Pobreza | U4: Acceso a servicios
A5: 3232 COLABORACIÓN EDUCATIVA CON CENTROS ESCOLARES | B5: 0.618 | C5: 0 | D5: 0.382 | E5: 0 | F5: 0 | G5: 1 | H5: 0 | I5: 0.48 | J5: 0.174 | K5: 0 | L5: =+B5*G5+C5*H5+D5*I5+E5*J5+F5*K5 -> 0.80136 | M5: =+B5*G5 -> 0.618 | N5: =+D5*I5 -> 0.18336 | O5: =+E5*J5 -> 0 | P5: =+F5*K5 -> 0 | Q5: Es un programa destinado a infancia pero tiene dos partidas para familias | R5: 2 Derecho al desarrollo pleno | S5: 21 Educación | T5: 4 Educación de Calidad | U5: Acceso a servicios

Sheet P1534
A1: PROGRAMA | B1: ECON | C1: PARTIDAS | D1: IMPORTE | E1: GASTO A | F1: GASTO B | G1: GASTO C | H1: GASTO D | I1: GASTO E | J1: OBSERVACIONES Y FUENTES
A2: PROGRAMA 1534 | B2: 12000 | C2: RETRIBUCIONES BASICAS DE FUNCIONARIOS | D2: 1000000 | H2: 1000000 | J2: Dado que el programa se destina a la población en general, sus partidas genéricas se consideran gasto tipo D.
A3: PROGRAMA 1534 | B3: 12100 | C3: RETRIBUCIONES COMPLEMENTARIAS FUNCIONARIOS | D3: 1500000 | H3: 1500000 | J3: Dado que el programa se destina a la población en general, sus partidas genéricas se consideran gasto tipo D.
A4: PROGRAMA 1534 | B4: 14100 | C4: OTRO PERSONAL | D4: 500000 | H4: 500000 | J4: Dado que el programa se destina a la población en general, sus partidas genéricas se consideran gasto tipo D.
A5: PROGRAMA 1534 | B5: 16000 | C5: SEGURIDAD SOCIAL A CARGO DEL AYUNTAMIENTO | D5: 1000000 | H5: 1000000 | J5: Dado que el programa se destina a la población en general, sus partidas genéricas se consideran gasto tipo D.
A6: PROGRAMA 1534 | B6: 16500 | C6: CUOTAS PENSIONES A CARGO AYUNTAMIENTO | D6: 40000 | H6: 40000 | J6: Dado que el programa se destina a la población en general, sus partidas genéricas se consideran gasto tipo D.
A7: PROGRAMA 1534 | B7: 20200 | C7: ARRENDAMIENTO DE MAQUINARIA E INSTALACIONES | D7: 30000 | H7: 30000 | J7: Dado que el programa se destina a la población en general, sus partidas genéricas se consideran gasto tipo D.
A8: PROGRAMA 1534 | B8: 21008 | C8: JUEGOS INFANTILES | D8: 170000 | E8: 170000 | J8: Partida destinada a poblacion infantil
A9: PROGRAMA 1534 | B9: 21009 | C9: RENOVACIÓN JUEGOS INFANTILES OBSOLETOS | D9: 2150000 | E9: 2150000 | J9: Partida destinada a poblacion infantil
A10: PROGRAMA 1534 | B10: 21060 | C10: CONSERVACION DE VIAS PUBLICAS Y FIRMES | D10: 500000 | H10: 500000 | J10: Dado que el programa se destina a la población en general, sus partidas genéricas se consideran gasto tipo D.
A11: PROGRAMA 1534 | B11: 21062 | C11: MANTENIMIENTO DE LOS FIRMES Y AGLOMERADOS | D11: 2000000 | H11: 2000000 | J11: Dado que el programa se destina a la población en general, sus partidas genéricas se consideran gasto tipo D.
A12: PROGRAMA 1534 | B12: 21701 | C12: CONSERVACION MOBILIARIO URBANO | D12: 60000 | H12: 60000 | J12: Dado que el programa se destina a la población en general, sus partidas genéricas se consideran gasto tipo D.
A13: PROGRAMA 1534 | B13: 21703 | C13: CONTRATO MANTENIMIENTO DE RAMPAS | D13: 100000 | H13: 100000 | J13: Dado que el programa se destina a la población en general, sus partidas genéricas se consideran gasto tipo D.
A14: PROGRAMA 1534 | B14: 22111 | C14: MENAJE, UTILES Y HERRAMIENTAS | D14: 40000 | H14: 40000 | J14: Dado que el programa se destina a la población en general, sus partidas genéricas se consideran gasto tipo D.
A15: PROGRAMA 1534 | B15: 22145 | C15: GASTOS SANITARIOS POR CORONAVIRUS | D15: 20000 | H15: 20000 | J15: Dado que el programa se destina a la población en general, sus partidas genéricas se consideran gasto tipo D.
A16: PROGRAMA 1534 | B16: 22722 | C16: CONTRATOS MANTENIMIENTO W.C.PUBLICOS | D16: 20000 | H16: 20000 | J16: Dado que el programa se destina a la población en general, sus partidas genéricas se consideran gasto tipo D.
A17: TOTAL | D17: =SUM(D2:D16) -> 9130000 | E17: =SUM(E2:E16) -> 2320000 | F17: =SUM(F2:F16) -> 0 | G17: =SUM(G2:G16) -> 0 | H17: =SUM(H2:H16) -> 6810000 | I17: =SUM(I2:I16) -> 0
A18: % | E18: =+E17/$D$17 -> 0.25410734 | F18: =+F17/$D$17 -> 0 | G18: =+G17/$D$17 -> 0 | H18: =+H17/$D$17 -> 0.74589266 | I18: =+I17/$D$17 -> 0
A22: Ponderador Gasto D | B22: 0.174 | C22: Porcentaje de poblacion infantil en el municipio

Sheet P2321
A1: PROGRAMA | B1: ECON | C1: PARTIDAS | D1: IMPORTE | E1: GASTO A | F1: GASTO B | G1: GASTO C | H1: GASTO D | I1: GASTO E | J1: FUENTE
A2: PROGRAMA 2321 | B2: 22731 | C2: SERVICIO DE COMIDA A DOMICILIO | D2: 200000 | F2: 200000 | J2: Partida destinada a población adulta. Por tanto, gasto tipo B.
A3: PROGRAMA 2321 | B3: 22786 | C3: TRANSPORTE DE COMIDAS | D3: 120000 | F3: 120000 | J3: Partida destinada a población adulta. Por tanto, gasto tipo B.
A4: PROGRAMA 2321 | B4: 22797 | C4: SERVICIO DE AYUDA A DOMICILIO - SAD | D4: 8000000 | F4: 8000000 | J4: Partida destinada a población adulta. Por tanto, gasto tipo B.
A5: PROGRAMA 2321 | B5: 22798 | C5: ESTUDIO SOBRE EL SAD | D5: 40000 | F5: 40000 | J5: Partida destinada a población adulta. Por tanto, gasto tipo B.
A6: PROGRAMA 2321 | B6: 48000 | C6: AYUDAS A EMERGENCIA SOCIAL | D6: 7000000 | I6: 7000000 | J6: Partida destinada a población en riesgo de pobreza y exclusión social. Como se destina a un subconjunto de la población en el que hay menores, pero en las que no es imprescindible su presencia, se considera gasto tipo E.
A7: PROGRAMA 2321 | B7: 48003 | C7: AYUDAS PARA PERSONAS EN RIESGO DE POBREZA Y EXCLUSION | D7: 6000000 | I7: 6000000 | J7: Partida destinada a población en riesgo de pobreza y exclusión social. Como se destina a un subconjunto de la población en el que hay menores, pero en las que no es imprescindible su presencia, se considera gasto tipo E.
A8: PROGRAMA 2321 | B8: 48005 | C8: PLAN POBREZA ENERGETICA | D8: 60000 | G8: 60000 | J8: El Plan tiene como beneficiarios exclusivamente a familias en riesgo de pobreza energética. Por tanto, se considera gasto tipo C.
A9: PROGRAMA 2321 | B9: 48154 | C9: CONVENIO CON ONG INFANTIL 1 | D9: 60000 | E9: 60000 | J9: Al ser convenio con entidad de atención a infancia, se considera gasto tipo A
A10: PROGRAMA 2321 | B10: 48957 | C10: CONVENIO CON ONG INFANTIL 1 | D10: 50000 | E10: 50000 | J10: Al ser convenio con entidad de atención a infancia, se considera gasto tipo A
A11: PROGRAMA 2321 | B11: 48977 | C11: CONVENIO CON ONG PERSONAS MAYORES | D11: 20000 | F11: 20000 | J11: Al ser convenio con entidad de atención a población adulta, se considera gasto tipo B
A12: TOTAL | D12: =SUM(D2:D11) -> 21550000 | E12: =SUM(E2:E11) -> 110000 | F12: =SUM(F2:F11) -> 8380000 | G12: =SUM(G2:G11) -> 60000 | H12: =SUM(H2:H11) -> 0 | I12: =SUM(I2:I11) -> 13000000
A13: % | E13: =+E12/$D$12 -> 0.0051044084 | F13: =+F12/$D$12 -> 0.38886311 | G13: =+G12/$D$12 -> 0.0027842227 | H13: =+H12/$D$12 -> 0 | I13: =+I12/$D$12 -> 0.60324826

Sheet Password
A1: Passwords | B1: 1234

Sheet P3232
A1: PROGRAMA | B1: ECON | C1: PARTIDAS | D1: IMPORTE | E1: GASTO A | F1: GASTO B | G1: GASTO C | H1: GASTO D | I1: GASTO E | J1: FUENTE
A2: PROGRAMA 3232 | B2: 22145 | C2: GASTOS DE LIMPIEZA | D2: 10000 | E2: 10000 | J2: Dado que el programa se destina a población infantil, sus partidas genéricas se consideran gasto tipo A.
A3: PROGRAMA 3232 | B3: 22684 | C3: PROGRAMAS EDUCATIVOS | D3: 400000 | E3: 400000
A4: PROGRAMA 3232 | B4: 22787 | C4: CONSEJO ESCOLAR MUNICIPAL | D4: 2000 | E4: 2000
A5: PROGRAMA 3232 | B5: 22605 | C5: JORNADAS | D5: 1000 | E5: 1000
A6: PROGRAMA 3232 | B6: 22624 | C6: PROGRAMAS COMPENSACION EDUCATIVA | D6: 40000 | E6: 40000
A7: PROGRAMA 3232 | B7: 22695 | C7: DINAMIZACIÓN AMPAS | D7: 80000 | G7: 80000 | J7: Actividades destinadas a las familias del alumnado, por tanto gasto tipo C.
A8: PROGRAMA 3232 | B8: 22780 | C8: PROGRAMA VACACIONAL FAMILIAS | D8: 200000 | G8: 200000 | J8: Actividades destinadas a las familias del alumnado, por tanto gasto tipo C.
A9: TOTAL | D9: =SUM(D2:D8) -> 733000 | E9: =SUM(E2:E8) -> 453000 | F9: =SUM(F2:F8) -> 0 | G9: =SUM(G2:G8) -> 280000 | H9: =SUM(H2:H8) -> 0 | I9: =SUM(I2:I8) -> 0
A10: % | E10: =+E9/$D$9 -> 0.61800819 | F10: =+F9/$D$9 -> 0 | G10: =+G9/$D$9 -> 0.38199181 | H10: =+H9/$D$9 -> 0 | I10: =+I9/$D$9 -> 0

Sheet Ponderadores gasto C
A1: ID | B1: INDICADOR | C1: VALOR | D1: PROGRAMA ASOCIADO | E1: OBSERVACIONES
A2: INC_C_1 | B2: % de niños, niñas y adolescentes residentes en familias beneficiarias de actuaciones destinadas a las AMPAS sobre el total de miembros de esas familias | C2: 0.48 | D2: P3232 | E2: De no existir es indicador, se podrá emplear el % de niños, niñas y adolescentes residentes en familias en el municipio sobre el total de miembros de esas familias (o acudir al dato de la Comunidad Autónoma)
A3: INC_C_2 | B3: % de niños, niñas y adolescentes residentes en familias beneficiarias de actuaciones destinadas a la lucha contra la pobreza energética sobre el total de miembros de esas familias | C3: 0.55 | D3: P2321 | E3: De no existir es indicador, se podrá emplear el % de niños, niñas y adolescentes residentes en familias en el municipio sobre el total de miembros de esas familias (o acudir al dato de la Comunidad Autónoma)

Sheet Ponderador gasto D
A1: ID | B1: INDICADOR | C1: VALOR | D1: PROGRAMAS ASOCIADOS | E1: OBSERVACIONES
A2: INC_D | B2: % de niños, niñas y adolescentes residentes el municipio sobre el total de la población | C2: 0.174 | D2: P1534 | E2: La información debe ser extraída de las estadísticas del padrón contínuo del INE o las que se elaboren desde el municipio

Sheet Ponderadores gasto E
A1: ID | B1: INDICADOR | C1: VALOR | D1: PROGRAMA ASOCIADO | E1: OBSERVACIONES
A2: INC_E_1 | B2: % de niños, niñas y adolescentes del subcojunto de la población beneficiaria de las ayudas de emergencia social sobre el total de las personas beneficiarias de dichas ayudas | C2: 0.205 | D2: P2321 | E2: De no existir es indicador, se podrá emplear el % de niños, niñas y adolescentes en riesgo de pobreza sobre el total de personas en riesgo de pobreza en el municipio (o acudir al dato de la Comunidad Autónoma)
A3: INC_C_2 | B3: % de niños, niñas y adolescentes del subcojunto de la población beneficiaria de las ayudas a personas en riesgo de pobreza y exclusión sobre el total de las personas beneficiarias de las ayudas | C3: 0.205 | D3: P2321 | E3: De no existir es indicador, se podrá emplear el % de niños, niñas y adolescentes en riesgo de pobreza sobre el total de personas en riesgo de pobreza en el municipio (o acudir al dato de la Comunidad Autónoma)
